
BEGIN:VCALENDAR
VERSION:2.0
PRODID:-//AI 4 Scientific Discovery - ECPv4.6.26.1//NONSGML v1.0//EN
CALSCALE:GREGORIAN
METHOD:PUBLISH
X-WR-CALNAME:AI 4 Scientific Discovery
X-ORIGINAL-URL:https://www.ai4science.network
X-WR-CALDESC:Events for AI 4 Scientific Discovery
BEGIN:VEVENT
DTSTART;TZID=Europe/London:20200904T140000
DTEND;TZID=Europe/London:20200904T153000
DTSTAMP:20260420T201434
CREATED:20200909T133044Z
LAST-MODIFIED:20201112T120023Z
UID:838-1599228000-1599233400@www.ai4science.network
SUMMARY:04/09/2020 - AI3SD Online Seminar Series: Machine Learning for Early Stage Drug Discovery - Professor Charlotte Deane
DESCRIPTION:\n\n\n\n**This event has now passed\, click here for event coverage** \n\n\n\n\nEventbrite Link: https://www.eventbrite.co.uk/e/ai3sd-online-seminar-series-machine-learning-4-early-stage-drug-discovery-tickets-118486914551\n\nDescription:\nThis seminar forms part of the AI3SD Online Seminar Series that will run across the summer. Please sign up to register for this event\, and the weblink for the seminar will be sent to you the day before the event. A recording of this seminar will be made available on the AI3SD YouTube Channel.\n\nAbstract:\n\nProfessor Charlotte Deane from the University of Oxford speaks about some of the work her research group have done on Machine Learning for Early Stage Drug Discovery to give a flavour of the different kinds of approaches they have been looking at. These run from predicting whether molecules will bind or not bind to a given protein target\, to trying to remove biases from that kind of work\, to finally how do we generate novel molecules in the protein binding sites.\n\n\nBiography:\n\nCharlotte is Professor of Structural Bioinformatics at the Department of Statistics\, University of Oxford and Deputy Executive Chair of the Engineering and Physical Sciences Research Council (EPSRC). At Oxford\, Charlotte leads the Oxford Protein Informatics Group\, who work on diverse problems across protein structure\, interaction networks and small molecule drug discovery; combining theoretical and empirical analysis with special interest in AI. She collaborates with experimentalists in academia and industry in experiment design to leverage the power of computation for biological insight. Her work focusses on the development of novel algorithms\, tools and databases that are openly available to the community. Examples include SAbDab\, SAbPred\, PanDDA and MEMOIR. These tools are widely used web resources and are also part of several Pharma drug discovery pipelines. Charlotte has consulted extensively with industry and has set up a consulting arm within her own research group as a way of promoting industrial interaction and use of the group’s software tools.\n\n
URL:https://www.ai4science.network/ai3sd-event/04-09-2020-ai3sd-online-seminar-series-machine-learning-for-early-stage-drug-discovery-professor-charlotte-deane/
LOCATION:Online Event
CATEGORIES:Online Event,Seminar
ORGANIZER;CN="AI3SD":MAILTO:info@ai3sd.org
END:VEVENT
END:VCALENDAR